Package: MetaboAnnotation Version: 1.15.0 Command: /home/biocbuild/bbs-3.23-bioc/R/bin/R CMD INSTALL MetaboAnnotation StartedAt: 2025-11-07 15:37:12 -0500 (Fri, 07 Nov 2025) EndedAt: 2025-11-07 15:37:52 -0500 (Fri, 07 Nov 2025) EllapsedTime: 40.5 seconds RetCode: 0 Status: OK