Package: MetaboAnnotation Version: 1.15.0 Command: /home/biocbuild/bbs-3.23-bioc/R/bin/R CMD build --keep-empty-dirs --no-resave-data MetaboAnnotation StartedAt: 2025-11-09 18:25:51 -0500 (Sun, 09 Nov 2025) EndedAt: 2025-11-09 18:27:21 -0500 (Sun, 09 Nov 2025) EllapsedTime: 90.1 seconds RetCode: 0 Status: OK PackageFile: MetaboAnnotation_1.15.0.tar.gz PackageFileSize: 1.24 MiB