Package: MetaboAnnotation Version: 1.15.0 Maintainer: Johannes Rainer MaintainerEmail: Johannes.Rainer at eurac.edu git_url: https://git.bioconductor.org/packages/MetaboAnnotation git_branch: devel git_last_commit: 0232707 git_last_commit_date: 2025-10-29 11:14:44 -0500 (Wed, 29 Oct 2025)