Package: MesKit Version: 1.21.0 Command: /home/biocbuild/bbs-3.23-bioc/R/bin/R CMD INSTALL MesKit StartedAt: 2025-11-10 15:34:45 -0500 (Mon, 10 Nov 2025) EndedAt: 2025-11-10 15:35:07 -0500 (Mon, 10 Nov 2025) EllapsedTime: 22.2 seconds RetCode: 0 Status: OK