Package: MatrixGenerics Version: 1.23.0 Command: /home/biocbuild/bbs-3.23-bioc/R/bin/R CMD INSTALL MatrixGenerics StartedAt: 2025-11-09 15:03:45 -0500 (Sun, 09 Nov 2025) EndedAt: 2025-11-09 15:04:04 -0500 (Sun, 09 Nov 2025) EllapsedTime: 18.6 seconds RetCode: 0 Status: OK