Package: MatrixGenerics Version: 1.23.0 Command: /home/biocbuild/bbs-3.23-bioc/R/bin/R CMD build --keep-empty-dirs --no-resave-data MatrixGenerics StartedAt: 2025-11-09 18:21:58 -0500 (Sun, 09 Nov 2025) EndedAt: 2025-11-09 18:21:59 -0500 (Sun, 09 Nov 2025) EllapsedTime: 1.0 seconds RetCode: 0 Status: OK PackageFile: MatrixGenerics_1.23.0.tar.gz PackageFileSize: 31.22 KiB