Package: MassSpecWavelet Version: 1.77.0 Command: /home/biocbuild/bbs-3.23-bioc/R/bin/R CMD INSTALL MassSpecWavelet StartedAt: 2025-11-23 15:03:00 -0500 (Sun, 23 Nov 2025) EndedAt: 2025-11-23 15:03:14 -0500 (Sun, 23 Nov 2025) EllapsedTime: 13.6 seconds RetCode: 0 Status: OK