Package: MassArray Version: 1.63.0 Command: /home/biocbuild/bbs-3.23-bioc/R/bin/R CMD INSTALL MassArray StartedAt: 2025-11-10 15:07:09 -0500 (Mon, 10 Nov 2025) EndedAt: 2025-11-10 15:07:14 -0500 (Mon, 10 Nov 2025) EllapsedTime: 4.7 seconds RetCode: 0 Status: OK