Package: MVCClass Version: 1.85.0 Command: /home/biocbuild/bbs-3.23-bioc/R/bin/R CMD INSTALL MVCClass StartedAt: 2025-11-07 15:05:49 -0500 (Fri, 07 Nov 2025) EndedAt: 2025-11-07 15:06:06 -0500 (Fri, 07 Nov 2025) EllapsedTime: 16.9 seconds RetCode: 0 Status: OK