Package: MVCClass Version: 1.85.0 Maintainer: Elizabeth Whalen MaintainerEmail: ewhalen at hsph.harvard.edu git_url: https://git.bioconductor.org/packages/MVCClass git_branch: devel git_last_commit: 91675ba git_last_commit_date: 2025-10-29 09:55:41 -0500 (Wed, 29 Oct 2025)