Package: MSstatsBioNet Version: 1.3.1 Command: /home/biocbuild/bbs-3.23-bioc/R/bin/R CMD INSTALL MSstatsBioNet StartedAt: 2025-11-09 15:57:49 -0500 (Sun, 09 Nov 2025) EndedAt: 2025-11-09 15:58:04 -0500 (Sun, 09 Nov 2025) EllapsedTime: 14.5 seconds RetCode: 0 Status: OK