Package: MSstatsBioNet Version: 1.3.1 Command: /home/biocbuild/bbs-3.23-bioc/R/bin/R CMD build --keep-empty-dirs --no-resave-data MSstatsBioNet StartedAt: 2025-11-09 18:48:47 -0500 (Sun, 09 Nov 2025) EndedAt: 2025-11-09 19:01:08 -0500 (Sun, 09 Nov 2025) EllapsedTime: 740.7 seconds RetCode: 1 Status: ERROR PackageFile: None PackageFileSize: NA