Package: MSstatsBioNet Version: 1.3.1 Maintainer: Anthony Wu MaintainerEmail: wu.anthon at northeastern.edu git_url: https://git.bioconductor.org/packages/MSstatsBioNet git_branch: devel git_last_commit: 5afd016 git_last_commit_date: 2025-11-05 18:51:59 -0500 (Wed, 05 Nov 2025)