Package: MOSim Version: 2.7.0 Command: /home/biocbuild/bbs-3.23-bioc/R/bin/R CMD INSTALL MOSim StartedAt: 2025-11-25 15:54:52 -0500 (Tue, 25 Nov 2025) EndedAt: 2025-11-25 15:55:36 -0500 (Tue, 25 Nov 2025) EllapsedTime: 43.9 seconds RetCode: 0 Status: OK