Package: MOSim Version: 2.7.0 Command: /home/biocbuild/bbs-3.23-bioc/R/bin/R CMD build --keep-empty-dirs --no-resave-data MOSim StartedAt: 2025-11-25 18:50:22 -0500 (Tue, 25 Nov 2025) EndedAt: 2025-11-25 18:56:42 -0500 (Tue, 25 Nov 2025) EllapsedTime: 379.3 seconds RetCode: 0 Status: OK PackageFile: MOSim_2.7.0.tar.gz PackageFileSize: 6.384 MiB