Package: MOSClip Version: 1.5.0 Command: /home/biocbuild/bbs-3.23-bioc/R/bin/R CMD build --keep-empty-dirs --no-resave-data MOSClip StartedAt: 2025-11-07 18:43:39 -0500 (Fri, 07 Nov 2025) EndedAt: 2025-11-07 18:45:10 -0500 (Fri, 07 Nov 2025) EllapsedTime: 91.1 seconds RetCode: 0 Status: OK PackageFile: MOSClip_1.5.0.tar.gz PackageFileSize: 2.093 MiB