Package: MOSClip Version: 1.5.0 Maintainer: Paolo Martini MaintainerEmail: paolo.martini at unibs.it git_url: https://git.bioconductor.org/packages/MOSClip git_branch: devel git_last_commit: feb3c8b git_last_commit_date: 2025-10-29 11:32:56 -0500 (Wed, 29 Oct 2025)