Package: MMDiff2 Version: 1.39.0 Maintainer: Gabriele Schweikert MaintainerEmail: gschweik at staffmail.ed.ac.uk git_url: https://git.bioconductor.org/packages/MMDiff2 git_branch: devel git_last_commit: d528d04 git_last_commit_date: 2025-10-29 10:32:14 -0500 (Wed, 29 Oct 2025)