Package: MLSeq Version: 2.29.0 Command: /home/biocbuild/bbs-3.23-bioc/R/bin/R CMD build --keep-empty-dirs --no-resave-data MLSeq StartedAt: 2025-11-13 18:43:26 -0500 (Thu, 13 Nov 2025) EndedAt: 2025-11-13 18:45:04 -0500 (Thu, 13 Nov 2025) EllapsedTime: 97.1 seconds RetCode: 0 Status: OK PackageFile: MLSeq_2.29.0.tar.gz PackageFileSize: 639.8 KiB