Package: MLInterfaces Version: 1.91.0 Command: /home/biocbuild/bbs-3.23-bioc/R/bin/R CMD INSTALL MLInterfaces StartedAt: 2025-11-07 15:29:16 -0500 (Fri, 07 Nov 2025) EndedAt: 2025-11-07 15:29:46 -0500 (Fri, 07 Nov 2025) EllapsedTime: 30.2 seconds RetCode: 0 Status: OK