Package: MLInterfaces Version: 1.91.0 Command: /home/biocbuild/bbs-3.23-bioc/R/bin/R CMD build --keep-empty-dirs --no-resave-data MLInterfaces StartedAt: 2025-11-07 18:39:29 -0500 (Fri, 07 Nov 2025) EndedAt: 2025-11-07 18:40:34 -0500 (Fri, 07 Nov 2025) EllapsedTime: 65.0 seconds RetCode: 0 Status: OK PackageFile: MLInterfaces_1.91.0.tar.gz PackageFileSize: 2.8 MiB