Package: MACSQuantifyR Version: 1.25.0 Maintainer: Raphaƫl Bonnet MaintainerEmail: raphael.bonnet at univ-cotedazur.fr git_url: https://git.bioconductor.org/packages/MACSQuantifyR git_branch: devel git_last_commit: 1dffa00 git_last_commit_date: 2025-10-29 10:55:32 -0500 (Wed, 29 Oct 2025)