Package: LRBaseDbi Version: 2.21.0 Command: /home/biocbuild/bbs-3.23-bioc/R/bin/R CMD INSTALL LRBaseDbi StartedAt: 2025-11-07 15:57:34 -0500 (Fri, 07 Nov 2025) EndedAt: 2025-11-07 15:57:46 -0500 (Fri, 07 Nov 2025) EllapsedTime: 12.3 seconds RetCode: 0 Status: OK