Package: LRBaseDbi Version: 2.21.0 Command: /home/biocbuild/bbs-3.23-bioc/R/bin/R CMD build --keep-empty-dirs --no-resave-data LRBaseDbi StartedAt: 2025-11-07 18:18:48 -0500 (Fri, 07 Nov 2025) EndedAt: 2025-11-07 18:19:13 -0500 (Fri, 07 Nov 2025) EllapsedTime: 25.0 seconds RetCode: 0 Status: OK PackageFile: LRBaseDbi_2.21.0.tar.gz PackageFileSize: 145.9 KiB