Package: LRBaseDbi Version: 2.21.0 Maintainer: Koki Tsuyuzaki MaintainerEmail: k.t.the-answer at hotmail.co.jp git_url: https://git.bioconductor.org/packages/LRBaseDbi git_branch: devel git_last_commit: e5322a2 git_last_commit_date: 2025-10-29 10:46:33 -0500 (Wed, 29 Oct 2025)