Package: KnowSeq Version: 1.25.0 Command: /home/biocbuild/bbs-3.23-bioc/R/bin/R CMD INSTALL KnowSeq StartedAt: 2025-11-07 15:29:31 -0500 (Fri, 07 Nov 2025) EndedAt: 2025-11-07 15:30:03 -0500 (Fri, 07 Nov 2025) EllapsedTime: 31.2 seconds RetCode: 0 Status: OK