Package: KnowSeq Version: 1.25.0 Command: /home/biocbuild/bbs-3.23-bioc/R/bin/R CMD build --keep-empty-dirs --no-resave-data KnowSeq StartedAt: 2025-11-07 18:15:51 -0500 (Fri, 07 Nov 2025) EndedAt: 2025-11-07 18:18:27 -0500 (Fri, 07 Nov 2025) EllapsedTime: 155.3 seconds RetCode: 0 Status: OK PackageFile: KnowSeq_1.25.0.tar.gz PackageFileSize: 8.22 MiB