Package: IntramiRExploreR Version: 1.33.0 Command: /home/biocbuild/bbs-3.23-bioc/R/bin/R CMD INSTALL IntramiRExploreR StartedAt: 2025-11-14 15:12:00 -0500 (Fri, 14 Nov 2025) EndedAt: 2025-11-14 15:12:19 -0500 (Fri, 14 Nov 2025) EllapsedTime: 19.3 seconds RetCode: 0 Status: OK