Package: InteractiveComplexHeatmap Version: 1.19.0 Maintainer: Zuguang Gu MaintainerEmail: z.gu at dkfz.de git_url: https://git.bioconductor.org/packages/InteractiveComplexHeatmap git_branch: devel git_last_commit: c1cbc91 git_last_commit_date: 2025-10-29 11:05:41 -0500 (Wed, 29 Oct 2025)