Package: InteractionSet Version: 1.39.0 Command: /home/biocbuild/bbs-3.23-bioc/R/bin/R CMD INSTALL InteractionSet StartedAt: 2025-11-07 15:23:12 -0500 (Fri, 07 Nov 2025) EndedAt: 2025-11-07 15:23:56 -0500 (Fri, 07 Nov 2025) EllapsedTime: 43.8 seconds RetCode: 0 Status: OK