Package: InteractionSet Version: 1.39.0 Maintainer: Aaron Lun MaintainerEmail: infinite.monkeys.with.keyboards at gmail.com git_url: https://git.bioconductor.org/packages/InteractionSet git_branch: devel git_last_commit: 3862179 git_last_commit_date: 2025-10-29 10:31:52 -0500 (Wed, 29 Oct 2025)