Package: IntEREst Version: 1.35.0 Command: /home/biocbuild/bbs-3.23-bioc/R/bin/R CMD INSTALL IntEREst StartedAt: 2025-11-07 15:57:44 -0500 (Fri, 07 Nov 2025) EndedAt: 2025-11-07 15:58:36 -0500 (Fri, 07 Nov 2025) EllapsedTime: 52.3 seconds RetCode: 0 Status: OK