Package: IntEREst Version: 1.35.0 Command: /home/biocbuild/bbs-3.23-bioc/R/bin/R CMD build --keep-empty-dirs --no-resave-data IntEREst StartedAt: 2025-11-07 18:10:56 -0500 (Fri, 07 Nov 2025) EndedAt: 2025-11-07 18:12:02 -0500 (Fri, 07 Nov 2025) EllapsedTime: 66.1 seconds RetCode: 1 Status: ERROR PackageFile: None PackageFileSize: NA