Package: IntEREst Version: 1.35.0 Maintainer: Ali Oghabian MaintainerEmail: Ali.Oghabian at Helsinki.Fi git_url: https://git.bioconductor.org/packages/IntEREst git_branch: devel git_last_commit: 0e454ed git_last_commit_date: 2025-10-29 10:37:18 -0500 (Wed, 29 Oct 2025)