Package: InPAS Version: 2.19.0 Command: /home/biocbuild/bbs-3.23-bioc/R/bin/R CMD INSTALL InPAS StartedAt: 2025-11-14 15:47:03 -0500 (Fri, 14 Nov 2025) EndedAt: 2025-11-14 15:47:17 -0500 (Fri, 14 Nov 2025) EllapsedTime: 14.8 seconds RetCode: 1 Status: ERROR