Package: InPAS Version: 2.19.0 Command: /home/biocbuild/bbs-3.23-bioc/R/bin/R CMD build --keep-empty-dirs --no-resave-data InPAS StartedAt: 2025-11-14 18:12:05 -0500 (Fri, 14 Nov 2025) EndedAt: 2025-11-14 18:12:19 -0500 (Fri, 14 Nov 2025) EllapsedTime: 14.0 seconds RetCode: 1 Status: ERROR PackageFile: None PackageFileSize: NA