Package: ITALICS Version: 2.71.0 Command: /home/biocbuild/bbs-3.23-bioc/R/bin/R CMD INSTALL ITALICS StartedAt: 2025-11-25 15:59:29 -0500 (Tue, 25 Nov 2025) EndedAt: 2025-11-25 15:59:55 -0500 (Tue, 25 Nov 2025) EllapsedTime: 25.8 seconds RetCode: 0 Status: OK