Package: HilbertVisGUI Version: 1.69.0 Maintainer: Simon Anders MaintainerEmail: sanders at fs.tum.de git_url: https://git.bioconductor.org/packages/HilbertVisGUI git_branch: devel git_last_commit: b69b8f1 git_last_commit_date: 2025-10-29 10:01:58 -0500 (Wed, 29 Oct 2025)