Package: HiLDA Version: 1.25.0 Command: /home/biocbuild/bbs-3.23-bioc/R/bin/R CMD INSTALL HiLDA StartedAt: 2025-11-19 16:03:15 -0500 (Wed, 19 Nov 2025) EndedAt: 2025-11-19 16:03:34 -0500 (Wed, 19 Nov 2025) EllapsedTime: 18.2 seconds RetCode: 0 Status: OK