Package: HiLDA Version: 1.25.0 Command: /home/biocbuild/bbs-3.23-bioc/R/bin/R CMD build --keep-empty-dirs --no-resave-data HiLDA StartedAt: 2025-11-19 18:09:35 -0500 (Wed, 19 Nov 2025) EndedAt: 2025-11-19 18:13:06 -0500 (Wed, 19 Nov 2025) EllapsedTime: 211.3 seconds RetCode: 0 Status: OK PackageFile: HiLDA_1.25.0.tar.gz PackageFileSize: 2.456 MiB