Package: HiCDCPlus Version: 1.19.0 Command: /home/biocbuild/bbs-3.23-bioc/R/bin/R CMD INSTALL HiCDCPlus StartedAt: 2025-11-07 15:55:47 -0500 (Fri, 07 Nov 2025) EndedAt: 2025-11-07 15:56:28 -0500 (Fri, 07 Nov 2025) EllapsedTime: 41.5 seconds RetCode: 0 Status: OK