Package: HiCDCPlus Version: 1.19.0 Command: /home/biocbuild/bbs-3.23-bioc/R/bin/R CMD build --keep-empty-dirs --no-resave-data HiCDCPlus StartedAt: 2025-11-07 18:01:17 -0500 (Fri, 07 Nov 2025) EndedAt: 2025-11-07 18:03:10 -0500 (Fri, 07 Nov 2025) EllapsedTime: 113.1 seconds RetCode: 0 Status: OK PackageFile: HiCDCPlus_1.19.0.tar.gz PackageFileSize: 1.189 MiB