Package: HelloRanges Version: 1.37.0 Command: /home/biocbuild/bbs-3.23-bioc/R/bin/R CMD INSTALL HelloRanges StartedAt: 2025-11-07 15:40:19 -0500 (Fri, 07 Nov 2025) EndedAt: 2025-11-07 15:41:01 -0500 (Fri, 07 Nov 2025) EllapsedTime: 42.0 seconds RetCode: 0 Status: OK