Package: HelloRanges Version: 1.37.0 Command: /home/biocbuild/bbs-3.23-bioc/R/bin/R CMD build --keep-empty-dirs --no-resave-data HelloRanges StartedAt: 2025-11-07 17:59:59 -0500 (Fri, 07 Nov 2025) EndedAt: 2025-11-07 18:03:53 -0500 (Fri, 07 Nov 2025) EllapsedTime: 233.2 seconds RetCode: 0 Status: OK PackageFile: HelloRanges_1.37.0.tar.gz PackageFileSize: 951.6 KiB