Package: HelloRanges Version: 1.37.0 Maintainer: Michael Lawrence MaintainerEmail: lawremi at gmail.com git_url: https://git.bioconductor.org/packages/HelloRanges git_branch: devel git_last_commit: 38fc888 git_last_commit_date: 2025-10-29 10:35:10 -0500 (Wed, 29 Oct 2025)