Package: GraphAlignment Version: 1.75.0 Maintainer: Joern P. Meier MaintainerEmail: mail at ionflux.org git_url: https://git.bioconductor.org/packages/GraphAlignment git_branch: devel git_last_commit: c4f998f git_last_commit_date: 2025-10-29 10:00:07 -0500 (Wed, 29 Oct 2025)