Package: GeomxTools Version: 3.15.0 Command: /home/biocbuild/bbs-3.23-bioc/R/bin/R CMD INSTALL GeomxTools StartedAt: 2025-11-07 15:16:07 -0500 (Fri, 07 Nov 2025) EndedAt: 2025-11-07 15:16:33 -0500 (Fri, 07 Nov 2025) EllapsedTime: 26.2 seconds RetCode: 0 Status: OK