Package: GeomxTools Version: 3.15.0 Command: /home/biocbuild/bbs-3.23-bioc/R/bin/R CMD build --keep-empty-dirs --no-resave-data GeomxTools StartedAt: 2025-11-09 17:43:57 -0500 (Sun, 09 Nov 2025) EndedAt: 2025-11-09 17:49:43 -0500 (Sun, 09 Nov 2025) EllapsedTime: 346.3 seconds RetCode: 0 Status: OK PackageFile: GeomxTools_3.15.0.tar.gz PackageFileSize: 15.63 MiB