Package: GeomxTools Version: 3.15.0 Maintainer: Maddy Griswold MaintainerEmail: mgriswold at nanostring.com git_url: https://git.bioconductor.org/packages/GeomxTools git_branch: devel git_last_commit: 2ccee05 git_last_commit_date: 2025-10-29 11:05:52 -0500 (Wed, 29 Oct 2025)