Package: GeoDiff Version: 1.17.0 Command: /home/biocbuild/bbs-3.23-bioc/R/bin/R CMD INSTALL GeoDiff StartedAt: 2025-11-07 15:16:37 -0500 (Fri, 07 Nov 2025) EndedAt: 2025-11-07 15:18:04 -0500 (Fri, 07 Nov 2025) EllapsedTime: 86.2 seconds RetCode: 0 Status: OK